BEGIN:VCALENDAR
VERSION:2.0
PRODID:-//wp-events-plugin.com//7.2.3.1//EN
TZID:Europe/Helsinki
X-WR-TIMEZONE:Europe/HelsinkiBEGIN:VCALENDAR
VERSION:2.0
PRODID:-//wp-events-plugin.com//7.2.3.1//EN
TZID:Europe/Helsinki
X-WR-TIMEZONE:Europe/Helsinki
BEGIN:VEVENT
UID:0-389@tanssinalkuun.fi
DTSTART;TZID=Europe/Helsinki:20250113T180000
DTEND;TZID=Europe/Helsinki:20250113T200000
DTSTAMP:20241209T190248Z
URL:https://tanssinalkuun.fi/events/hameenlinna-baunssi/
SUMMARY:Hämeenlinna - Baunssi
DESCRIPTION:Aloita vuosi tanssien ja tule maksuttomalle foksikurssille maan
 antaina 13.1.2025 klo 18-20. Kurssilla opetellaan foksin perusteet rauhall
 iseen tahtiin\, joten aiempaa tanssikokemusta et tarvitse. Tunneilla toimi
 i vapaaehtoinen parinvaihto\, joten et tarvitse omaa tanssiparia.\n\nPaikk
 a: Baunssin sali\, Kiekkoritarinkuja 3A\, Hämeenlinna. Sali sijaitsee aiv
 an Hämeenlinnan jäähallin vieressä.\nLaji: foksi (alkeet)\nOhjaajat: S
 ami Vänttinen\, Tehri Westerberg ja Anneli Hallapelto\nMuuta: Mukaan tarv
 itset vain tanssilenkkarit/sisäkengät\, vesipullon ja iloisen mielen. Pa
 ikalle voi tulla yksin\, parin kanssa tai isommalla porukalla. Ei ennakkoi
 lmoittautumista.\nLisätietoa: anneli.hallapelto@gmail.com
ATTACH;FMTTYPE=image/jpeg:https://i0.wp.com/tanssinalkuun.fi/wp-content/up
 loads/sites/6/2024/12/baunssi.jpg?fit=354%2C348&ssl=1
CATEGORIES:Foksi
LOCATION:Kanta-Häme\,  \,  \, Suomi
X-APPLE-STRUCTURED-LOCATION;VALUE=URI;X-ADDRESS= \,  \, Suomi;X-APPLE-RADIU
 S=100;X-TITLE=Kanta-Häme:geo:0,0
END:VEVENT
BEGIN:VTIMEZONE
TZID:Europe/Helsinki
X-LIC-LOCATION:Europe/Helsinki
BEGIN:STANDARD
DTSTART:20241027T030000
TZOFFSETFROM:+0300
TZOFFSETTO:+0200
TZNAME:EET
END:STANDARD
END:VTIMEZONE
END:VCALENDAR