BEGIN:VCALENDAR
VERSION:2.0
PRODID:-//wp-events-plugin.com//7.2.3.1//EN
TZID:Europe/Helsinki
X-WR-TIMEZONE:Europe/HelsinkiBEGIN:VCALENDAR
VERSION:2.0
PRODID:-//wp-events-plugin.com//7.2.3.1//EN
TZID:Europe/Helsinki
X-WR-TIMEZONE:Europe/Helsinki
BEGIN:VEVENT
UID:0-271@tanssinalkuun.fi
DTSTART;TZID=Europe/Helsinki:20241130T170000
DTEND;TZID=Europe/Helsinki:20241130T190000
DTSTAMP:20241002T191840Z
URL:https://tanssinalkuun.fi/events/tampere-tmi-sari-siltasalmi-4/
SUMMARY:Tampere - Tmi Sari Siltasalmi
DESCRIPTION:Tervetuloa ilmaiselle tanssikurssille opettelemaan foksin alkei
 ta! Mukaan tarvitset vain vesipullon\, lenkkarit/sisäkengät ja iloisen m
 ielen. Ohjaajina Sari Siltasalmi ja Esko Hyvärinen\, paikkana Ikurin Liik
 untahalli Tanssiseura Swing Teamin sali os. Tesomankatu 33 Tampere. Paikal
 le voi tulla yksin tai parin kanssa. Ei ennakkoilmoittautumista.\n\nLisät
 ietoja sarisilt@gmail.com.
ATTACH;FMTTYPE=image/jpeg:https://i0.wp.com/tanssinalkuun.fi/wp-content/up
 loads/sites/6/2023/06/SariEsko_VMV-WeWantYou_pienennety_JPG.jpg?fit=577%2C
 684&ssl=1
CATEGORIES:Foksi
LOCATION:Pirkanmaa\,  \,  \, Suomi
X-APPLE-STRUCTURED-LOCATION;VALUE=URI;X-ADDRESS= \,  \, Suomi;X-APPLE-RADIU
 S=100;X-TITLE=Pirkanmaa:geo:0,0
END:VEVENT
BEGIN:VTIMEZONE
TZID:Europe/Helsinki
X-LIC-LOCATION:Europe/Helsinki
BEGIN:STANDARD
DTSTART:20241027T030000
TZOFFSETFROM:+0300
TZOFFSETTO:+0200
TZNAME:EET
END:STANDARD
END:VTIMEZONE
END:VCALENDAR